BEGIN:VCALENDAR
VERSION:2.0
PRODID:-//Dunster Parish Council//Meeting Calendar//EN
CALSCALE:GREGORIAN
METHOD:PUBLISH
BEGIN:VEVENT
UID:70803-20251110@dunsterparishcouncil.gov.uk
DTSTAMP:20260425T131421Z
DTSTART;VALUE=DATE:20251110
DTEND;VALUE=DATE:20251111
SUMMARY:Finance committee meeting &#8211\\; 10th November 2025
DESCRIPTION:Finance Committee Meeting\nView details: https://dunsterparishcouncil.gov.uk/meetings/finance-meeting/
URL:https://dunsterparishcouncil.gov.uk/meetings/finance-meeting/
END:VEVENT
END:VCALENDAR
