BEGIN:VCALENDAR
VERSION:2.0
PRODID:-//Dunster Parish Council//Meeting Calendar//EN
CALSCALE:GREGORIAN
METHOD:PUBLISH
BEGIN:VEVENT
UID:70760-20211108@dunsterparishcouncil.gov.uk
DTSTAMP:20260425T143328Z
DTSTART;VALUE=DATE:20211108
DTEND;VALUE=DATE:20211109
SUMMARY:Finance Committee Meeting &#8211\\; 8 November 2021
DESCRIPTION:Finance Committee Meeting\nView details: https://dunsterparishcouncil.gov.uk/meetings/finance-committee-meeting-8-november-2021/
URL:https://dunsterparishcouncil.gov.uk/meetings/finance-committee-meeting-8-november-2021/
END:VEVENT
END:VCALENDAR
