BEGIN:VCALENDAR
VERSION:2.0
PRODID:-//Dunster Parish Council//Meeting Calendar//EN
CALSCALE:GREGORIAN
METHOD:PUBLISH
BEGIN:VEVENT
UID:70746-20250108@dunsterparishcouncil.gov.uk
DTSTAMP:20260425T131422Z
DTSTART;VALUE=DATE:20250108
DTEND;VALUE=DATE:20250109
SUMMARY:Finance Committee Meeting &#8211\\; 8 January 2025
DESCRIPTION:Finance Committee Meeting\nView details: https://dunsterparishcouncil.gov.uk/meetings/finance-committee-meeting-8-january-2025/
URL:https://dunsterparishcouncil.gov.uk/meetings/finance-committee-meeting-8-january-2025/
END:VEVENT
END:VCALENDAR
